BEGIN:VCALENDAR
VERSION:2.0
PRODID:-//CERN//INDICO//EN
BEGIN:VEVENT
SUMMARY:IWND2026-test1
DTSTART:20260821T050000Z
DTEND:20260825T140000Z
DTSTAMP:20260426T010300Z
UID:indico-event-491@napp.fudan.edu.cn
CONTACT:yuwenting@fudan.edu.cn
DESCRIPTION:Overview\n\n \nThe 11th Asian Triangle Heavy-Ion Conference (
 ATHIC 2026) will be hosted by Fudan University in Shanghai\, China. The co
 nference will take place at the Shanghai Science Hall\, Shanghai\, from Th
 ursday\, November 5th to Monday\, November 9th\, 2026. This will be an exc
 lusively in-person event\, with no arrangements for remote participation o
 r broadcasting. Please note that November 5th is reserved for registration
  and welcome reception.\nATHIC 2026 continues the tradition of previous co
 nferences\, which began in Seoul in 2006\, with the most recent one held i
 n Odisha in 2025. Many physicists from Asian countries have been actively 
 engaged in both experimental and theoretical research on heavy-ion collisi
 ons. ATHIC provides a platform for these researchers to gather and discuss
  exciting developments in the field. We look forward to fostering fruitful
  discussions among participants and generating new ideas to advance our un
 derstanding of hot and dense QCD matter.\nATHIC 2026 will focus on a wide 
 range of topics\, including but not limited to:\n\nInitial state and therm
 alization\nJets and medium response\nHeavy quarks and quarkonia\nElectroma
 gnetic probes\nCollective dynamics\nCorrelations and fluctuations\nQCD pha
 se diagram and extreme conditions\nQGP in small systems\nStrong fields and
  vorticity\nHadronic interactions and exotic states\nNew theoretical devel
 opments\nExperimental techniques and future programs\n\nThe conference wil
 l feature plenary\, parallel\, and poster sessions. Students are especiall
 y encouraged to submit their contributions. \n\nhttps://napp.fudan.edu.cn
 /event/491/
LOCATION: Shanghai Science Hall (Shanghai)
URL:https://napp.fudan.edu.cn/event/491/
END:VEVENT
END:VCALENDAR
